BEGIN:VCALENDAR
VERSION:2.0
BEGIN:VEVENT
DTSTART:20190724T213000Z
DTEND:20190725T003000Z
SUMMARY:Gender Diversity Workshop
DESCRIPTION:There has been a shift in the gender landscape, how gender is expressed and experienced has changed significantly in the last five years. How we are able to respond to these changes has a direct impact on our ability to support our students or clients.
LOCATION:TBC, Christchurch, New Zealand
END:VEVENT
END:VCALENDAR