BEGIN:VCALENDAR
VERSION:2.0
BEGIN:VEVENT
DTSTART:20190410T210000Z
DTEND:20190411T000000Z
SUMMARY:HEADSSS - Part 1
DESCRIPTION:Have you heard of this tool for working with young people? 
Ever wondered what the letters stand for?
Have you had trouble communicating with young people?
LOCATION:TBC, Christchurch, New Zealand
END:VEVENT
END:VCALENDAR