BEGIN:VCALENDAR
VERSION:2.0
BEGIN:VEVENT
DTSTART:20190626T210000Z
DTEND:20190627T000000Z
SUMMARY:HEADSSS - Part 2
DESCRIPTION:So you collect all the information then what?
LOCATION:TBC, Christchurch, Canterbury, New Zealand
END:VEVENT
END:VCALENDAR