BEGIN:VCALENDAR
VERSION:2.0
BEGIN:VEVENT
DTSTART:20210324T203000Z
DTEND:20210324T223000Z
SUMMARY:Managing Big Emotions
DESCRIPTION:With a focus on the significant adults in the lives of young people, this workshop aims to provide a basic understanding of the role of ‘big feelings’ in development.
LOCATION:Online Workshop, New Zealand
END:VEVENT
END:VCALENDAR