BEGIN:VCALENDAR
VERSION:2.0
BEGIN:VEVENT
DTSTART:20210308T203000Z
DTEND:20210308T223000Z
SUMMARY:Sowing and Growing the Seeds of Compassion and Kindness
DESCRIPTION:Research has found that compassion is response that has ensured our survival.
LOCATION:Online Workshop, New Zealand
END:VEVENT
END:VCALENDAR