BEGIN:VCALENDAR
VERSION:2.0
BEGIN:VEVENT
DTSTART:20210215T203000Z
DTEND:20210215T223000Z
SUMMARY:Supporting Young People's Positive Development and Wellbeing : A Resource-Building Workshop
DESCRIPTION:Wellbeing is often portrayed in media and policy as equating with Health, Wealth and Happiness.  Yet, anyone who works with young people knows there is much more to being well, and it doesn't look the same from one young person to the next.
LOCATION:Online Workshop, New Zealand
END:VEVENT
END:VCALENDAR