BEGIN:VCALENDAR
VERSION:2.0
BEGIN:VEVENT
DTSTART:20190320T203000Z
DTEND:20190321T023000Z
SUMMARY:Trauma Informed Care
DESCRIPTION:What does 'Trauma Informed Care' actually mean? What creates trauma in people’s lives? What difference to Care does it make if you know there has been trauma in the past? How can you help?
LOCATION:TBC, Christchurch, New Zealand
END:VEVENT
END:VCALENDAR