BEGIN:VCALENDAR
VERSION:2.0
BEGIN:VEVENT
DTSTART:20190130T203000Z
DTEND:20190130T233000Z
SUMMARY:Understanding and Preventing Suicide in Youth
DESCRIPTION:New Zealand has one of the highest youth suicide rates in the Western World. Suicide is not inevitable and it can be prevented.
LOCATION:TBC, Christchurch, New Zealand
END:VEVENT
END:VCALENDAR